BEGIN:VCALENDAR
METHOD:PUBLISH
PRODID:Microsoft Exchange Server 2010
VERSION:2.0
BEGIN:VTIMEZONE
TZID:tzone://Microsoft/Utc
BEGIN:STANDARD
DTSTART:16010101T000000
TZOFFSETFROM:+0000
TZOFFSETTO:+0000
END:STANDARD
BEGIN:DAYLIGHT
DTSTART:16010101T000000
TZOFFSETFROM:+0000
TZOFFSETTO:+0000
END:DAYLIGHT
END:VTIMEZONE
BEGIN:VEVENT
ORGANIZER;CN=Rohit Lakshman:mailto:rohit@freehand.ai
DESCRIPTION:Join the Freehand keynote on "AI Pilots Are Easy. Decisions Are
  Hard. Here's the Infrastructure Gap.”\non Monday\, May 5 at 4:00 PM at 
 Swan Ballroom 6.\n\nSpeakers:\n\n  *\nNitin Jayakrishnan - CEO & Co-founde
 r\, Freehand\n  *\nSuketu Gandhi - Partner\, Kearney\n\n\n
UID:040000008200E00074C5B7101A82E008000000007961C8D6EDD2DC01000000000000000
 0100000009EBDB92C11233148B9F32D436913B965
SUMMARY:AI Pilots Are Easy. Decisions Are Hard. Here's the Infrastructure G
 ap. [Freehand Keynote at GartnerSCS26]
DTSTART:20260504T200000Z
DTEND:20260504T203000Z
CLASS:PUBLIC
PRIORITY:5
DTSTAMP:20260423T065510Z
TRANSP:OPAQUE
STATUS:CONFIRMED
SEQUENCE:0
LOCATION:Swan Ballroom 6 - Walt Disney Swan & Dolphin Resort\, Orlando
X-MICROSOFT-CDO-BUSYSTATUS:BUSY
X-MICROSOFT-CDO-INTENDEDSTATUS:BUSY
X-MICROSOFT-CDO-ALLDAYEVENT:FALSE
X-MICROSOFT-CDO-IMPORTANCE:1
X-MICROSOFT-CDO-INSTTYPE:0
X-MICROSOFT-ONLINEMEETINGEXTERNALLINK:
X-MICROSOFT-ONLINEMEETINGCONFLINK:
X-MICROSOFT-DONOTFORWARDMEETING:FALSE
X-MICROSOFT-DISALLOW-COUNTER:FALSE
X-MICROSOFT-LOCATIONDISPLAYNAME:Swan Ballroom 6 - Walt Disney Swan & Dolphi
 n Resort\, Orlando
X-MICROSOFT-LOCATIONS:[{"DisplayName":"Swan Ballroom 6 - Walt Disney Swan &
  Dolphin Resort\, Orlando"\,"LocationAnnotation":""\,"LocationUri":""\,"Lo
 cationStreet":""\,"LocationCity":""\,"LocationState":""\,"LocationCountry"
 :""\,"LocationPostalCode":""\,"LocationFullAddress":""}]
BEGIN:VALARM
DESCRIPTION:REMINDER
TRIGGER;RELATED=START:-PT15M
ACTION:DISPLAY
END:VALARM
END:VEVENT
END:VCALENDAR
