BEGIN:VCALENDAR
METHOD:PUBLISH
PRODID:Microsoft Exchange Server 2010
VERSION:2.0
BEGIN:VTIMEZONE
TZID:tzone://Microsoft/Utc
BEGIN:STANDARD
DTSTART:16010101T000000
TZOFFSETFROM:+0000
TZOFFSETTO:+0000
END:STANDARD
BEGIN:DAYLIGHT
DTSTART:16010101T000000
TZOFFSETFROM:+0000
TZOFFSETTO:+0000
END:DAYLIGHT
END:VTIMEZONE
BEGIN:VEVENT
ORGANIZER;CN=Rohit Lakshman:mailto:rohit@freehand.ai
DESCRIPTION:Join the Freehand keynote on "The Exception Is the Rule: AI Tea
 ms That Handle the 80% No One Wants” on Monday\, May 6 at 10:00 AM at St
 age 1\, Suplly Chain XPO.\n\nSpeakers:\n\n  *\nKen Kodger - VP of Customer
  Success\, Freehand\n  *\nSuja Chandra - Board Member\n\n\n\n\n
UID:040000008200E00074C5B7101A82E00800000000C1FCFE2EEED2DC01000000000000000
 010000000DE005FBDAE88CB4486254EEB656C889C
SUMMARY:The Exception Is the Rule: AI Teams That Handle the 80% No One Want
 s [Freehand Keynote at GartnerSCS26]
DTSTART:20260506T140000Z
DTEND:20260506T143000Z
CLASS:PUBLIC
PRIORITY:5
DTSTAMP:20260423T065628Z
TRANSP:OPAQUE
STATUS:CONFIRMED
SEQUENCE:0
LOCATION:Stage 1\, Supply Chain XPO - Walt Disney Swan & Dolphin Resort\, O
 rlando
X-MICROSOFT-CDO-BUSYSTATUS:BUSY
X-MICROSOFT-CDO-INTENDEDSTATUS:BUSY
X-MICROSOFT-CDO-ALLDAYEVENT:FALSE
X-MICROSOFT-CDO-IMPORTANCE:1
X-MICROSOFT-CDO-INSTTYPE:0
X-MICROSOFT-ONLINEMEETINGEXTERNALLINK:
X-MICROSOFT-ONLINEMEETINGCONFLINK:
X-MICROSOFT-DONOTFORWARDMEETING:FALSE
X-MICROSOFT-DISALLOW-COUNTER:FALSE
X-MICROSOFT-LOCATIONDISPLAYNAME:Stage 1\, Supply Chain XPO - Walt Disney Sw
 an & Dolphin Resort\, Orlando
X-MICROSOFT-LOCATIONS:[{"DisplayName":"Stage 1\, Supply Chain XPO - Walt Di
 sney Swan & Dolphin Resort\, Orlando"\,"LocationAnnotation":""\,"LocationU
 ri":""\,"LocationStreet":""\,"LocationCity":""\,"LocationState":""\,"Locat
 ionCountry":""\,"LocationPostalCode":""\,"LocationFullAddress":""}]
BEGIN:VALARM
DESCRIPTION:REMINDER
TRIGGER;RELATED=START:-PT15M
ACTION:DISPLAY
END:VALARM
END:VEVENT
END:VCALENDAR
